Package: phenopath Version: 1.31.0 Command: /home/biocbuild/R/R/bin/R CMD build --keep-empty-dirs --no-resave-data phenopath StartedAt: 2025-01-29 01:16:24 -0000 (Wed, 29 Jan 2025) EndedAt: 2025-01-29 01:17:35 -0000 (Wed, 29 Jan 2025) EllapsedTime: 71.1 seconds RetCode: 0 Status: OK PackageFile: phenopath_1.31.0.tar.gz PackageFileSize: 1.173 MiB