Package: phenopath Version: 1.31.0 Command: /home/biocbuild/R/R/bin/R CMD INSTALL phenopath StartedAt: 2025-01-29 19:40:02 -0000 (Wed, 29 Jan 2025) EndedAt: 2025-01-29 19:40:50 -0000 (Wed, 29 Jan 2025) EllapsedTime: 47.8 seconds RetCode: 0 Status: OK