Package: phenopath Version: 1.31.0 Command: rm -rf phenopath.buildbin-libdir && mkdir phenopath.buildbin-libdir && /Users/biocbuild/BBS/utils/build-universal.sh phenopath_1.31.0.tar.gz /Library/Frameworks/R.framework/Resources/bin/R phenopath.buildbin-libdir StartedAt: 2025-02-13 00:50:45 -0500 (Thu, 13 Feb 2025) EndedAt: 2025-02-13 00:51:28 -0500 (Thu, 13 Feb 2025) EllapsedTime: 43.0 seconds RetCode: 0 Status: OK PackageFile: phenopath_1.31.0.tgz PackageFileSize: 1.013 MiB