Package: phenopath Version: 1.31.0 Command: /home/biocbuild/bbs-3.21-bioc/R/bin/R CMD INSTALL phenopath StartedAt: 2025-02-12 15:17:31 -0500 (Wed, 12 Feb 2025) EndedAt: 2025-02-12 15:18:04 -0500 (Wed, 12 Feb 2025) EllapsedTime: 32.2 seconds RetCode: 0 Status: OK