Package: phenopath Version: 1.31.0 Command: rm -rf phenopath.buildbin-libdir && mkdir phenopath.buildbin-libdir && E:\biocbuild\bbs-3.21-bioc\R\bin\R.exe CMD INSTALL --build --library=phenopath.buildbin-libdir phenopath_1.31.0.tar.gz StartedAt: 2025-02-10 08:22:29 -0500 (Mon, 10 Feb 2025) EndedAt: 2025-02-10 08:23:09 -0500 (Mon, 10 Feb 2025) EllapsedTime: 39.6 seconds RetCode: 0 Status: OK PackageFile: phenopath_1.31.0.zip PackageFileSize: 1.125 MiB