Package: phenopath Version: 1.31.0 Command: chmod a+r phenopath -R && E:\biocbuild\bbs-3.21-bioc\R\bin\R.exe CMD build --keep-empty-dirs --no-resave-data phenopath StartedAt: 2025-02-09 20:43:57 -0500 (Sun, 09 Feb 2025) EndedAt: 2025-02-09 20:44:53 -0500 (Sun, 09 Feb 2025) EllapsedTime: 56.7 seconds RetCode: 0 Status: OK PackageFile: phenopath_1.31.0.tar.gz PackageFileSize: 1.101 MiB