Package: phenopath Version: 1.31.0 Command: E:\biocbuild\bbs-3.21-bioc\R\bin\R.exe CMD INSTALL phenopath StartedAt: 2025-02-09 16:08:14 -0500 (Sun, 09 Feb 2025) EndedAt: 2025-02-09 16:08:55 -0500 (Sun, 09 Feb 2025) EllapsedTime: 40.5 seconds RetCode: 0 Status: OK