Package: philr Version: 1.33.0 Command: rm -rf philr.buildbin-libdir && mkdir philr.buildbin-libdir && /Users/biocbuild/BBS/utils/build-universal.sh philr_1.33.0.tar.gz /Library/Frameworks/R.framework/Resources/bin/R philr.buildbin-libdir StartedAt: 2025-02-10 01:08:11 -0500 (Mon, 10 Feb 2025) EndedAt: 2025-02-10 01:08:26 -0500 (Mon, 10 Feb 2025) EllapsedTime: 15.1 seconds RetCode: 0 Status: OK PackageFile: philr_1.33.0.tgz PackageFileSize: 576.3 KiB