Package: philr Version: 1.33.0 Command: /home/biocbuild/bbs-3.21-bioc/R/bin/R CMD build --keep-empty-dirs --no-resave-data philr StartedAt: 2025-02-09 18:39:39 -0500 (Sun, 09 Feb 2025) EndedAt: 2025-02-09 18:40:17 -0500 (Sun, 09 Feb 2025) EllapsedTime: 38.1 seconds RetCode: 0 Status: OK PackageFile: philr_1.33.0.tar.gz PackageFileSize: 530.1 KiB