Package: philr Version: 1.33.0 Command: chmod a+r philr -R && E:\biocbuild\bbs-3.21-bioc\R\bin\R.exe CMD build --keep-empty-dirs --no-resave-data philr StartedAt: 2025-02-09 20:44:38 -0500 (Sun, 09 Feb 2025) EndedAt: 2025-02-09 20:45:32 -0500 (Sun, 09 Feb 2025) EllapsedTime: 53.7 seconds RetCode: 0 Status: OK PackageFile: philr_1.33.0.tar.gz PackageFileSize: 324.2 KiB