Package: phosphonormalizer Version: 1.31.0 Command: /Library/Frameworks/R.framework/Resources/bin/R CMD build --keep-empty-dirs --no-resave-data phosphonormalizer StartedAt: 2025-02-12 17:15:01 -0500 (Wed, 12 Feb 2025) EndedAt: 2025-02-12 17:15:06 -0500 (Wed, 12 Feb 2025) EllapsedTime: 5.1 seconds RetCode: 0 Status: OK PackageFile: phosphonormalizer_1.31.0.tar.gz PackageFileSize: 2.7 MiB