Package: phosphonormalizer Version: 1.31.0 Command: rm -rf phosphonormalizer.buildbin-libdir && mkdir phosphonormalizer.buildbin-libdir && /Users/biocbuild/BBS/utils/build-universal.sh phosphonormalizer_1.31.0.tar.gz /Library/Frameworks/R.framework/Resources/bin/R phosphonormalizer.buildbin-libdir StartedAt: 2025-02-10 01:08:12 -0500 (Mon, 10 Feb 2025) EndedAt: 2025-02-10 01:08:19 -0500 (Mon, 10 Feb 2025) EllapsedTime: 6.9 seconds RetCode: 0 Status: OK PackageFile: phosphonormalizer_1.31.0.tgz PackageFileSize: 2.709 MiB