Package: phosphonormalizer Version: 1.31.0 Command: /home/biocbuild/bbs-3.21-bioc/R/bin/R CMD check --install=check:phosphonormalizer.install-out.txt --library=/home/biocbuild/bbs-3.21-bioc/R/site-library --timings phosphonormalizer_1.31.0.tar.gz StartedAt: 2025-02-10 01:17:53 -0500 (Mon, 10 Feb 2025) EndedAt: 2025-02-10 01:18:35 -0500 (Mon, 10 Feb 2025) EllapsedTime: 42.1 seconds RetCode: 0 Status: OK CheckDir: phosphonormalizer.Rcheck Warnings: 0