Package: phosphonormalizer Version: 1.31.0 Command: chmod a+r phosphonormalizer -R && E:\biocbuild\bbs-3.21-bioc\R\bin\R.exe CMD build --keep-empty-dirs --no-resave-data phosphonormalizer StartedAt: 2025-02-12 20:50:41 -0500 (Wed, 12 Feb 2025) EndedAt: 2025-02-12 20:50:55 -0500 (Wed, 12 Feb 2025) EllapsedTime: 14.1 seconds RetCode: 0 Status: OK PackageFile: phosphonormalizer_1.31.0.tar.gz PackageFileSize: 2.586 MiB