Package: phosphonormalizer Version: 1.31.0 Command: E:\biocbuild\bbs-3.21-bioc\R\bin\R.exe CMD check --no-multiarch --install=check:phosphonormalizer.install-out.txt --library=E:\biocbuild\bbs-3.21-bioc\R\library --no-vignettes --timings phosphonormalizer_1.31.0.tar.gz StartedAt: 2025-02-13 04:14:18 -0500 (Thu, 13 Feb 2025) EndedAt: 2025-02-13 04:15:08 -0500 (Thu, 13 Feb 2025) EllapsedTime: 49.9 seconds RetCode: 0 Status: OK CheckDir: phosphonormalizer.Rcheck Warnings: 0