Package: phyloseq Version: 1.51.0 Command: /Library/Frameworks/R.framework/Resources/bin/R CMD build --keep-empty-dirs --no-resave-data phyloseq StartedAt: 2025-02-04 17:15:20 -0500 (Tue, 04 Feb 2025) EndedAt: 2025-02-04 17:15:59 -0500 (Tue, 04 Feb 2025) EllapsedTime: 38.5 seconds RetCode: 1 Status: ERROR PackageFile: None PackageFileSize: NA