Package: phyloseq Version: 1.51.0 Command: /Library/Frameworks/R.framework/Resources/bin/R CMD INSTALL phyloseq StartedAt: 2025-02-04 15:22:29 -0500 (Tue, 04 Feb 2025) EndedAt: 2025-02-04 15:22:39 -0500 (Tue, 04 Feb 2025) EllapsedTime: 10.2 seconds RetCode: 0 Status: OK