Package: phyloseq Version: 1.51.0 Command: /Library/Frameworks/R.framework/Resources/bin/R CMD check --install=check:phyloseq.install-out.txt --library=/Library/Frameworks/R.framework/Resources/library --no-vignettes --timings phyloseq_1.51.0.tar.gz StartedAt: 2025-02-09 22:41:35 -0500 (Sun, 09 Feb 2025) EndedAt: 2025-02-09 22:46:43 -0500 (Sun, 09 Feb 2025) EllapsedTime: 307.7 seconds RetCode: 0 Status: WARNINGS CheckDir: phyloseq.Rcheck Warnings: 1