Package: phyloseq Version: 1.51.0 Command: /home/biocbuild/bbs-3.21-bioc/R/bin/R CMD build --keep-empty-dirs --no-resave-data phyloseq StartedAt: 2025-02-09 18:39:54 -0500 (Sun, 09 Feb 2025) EndedAt: 2025-02-09 18:41:32 -0500 (Sun, 09 Feb 2025) EllapsedTime: 98.1 seconds RetCode: 0 Status: OK PackageFile: phyloseq_1.51.0.tar.gz PackageFileSize: 6.037 MiB