Package: phyloseq Version: 1.51.0 Command: rm -rf phyloseq.buildbin-libdir && mkdir phyloseq.buildbin-libdir && E:\biocbuild\bbs-3.21-bioc\R\bin\R.exe CMD INSTALL --build --library=phyloseq.buildbin-libdir phyloseq_1.51.0.tar.gz StartedAt: 2025-02-10 08:23:03 -0500 (Mon, 10 Feb 2025) EndedAt: 2025-02-10 08:24:52 -0500 (Mon, 10 Feb 2025) EllapsedTime: 109.0 seconds RetCode: 0 Status: OK PackageFile: phyloseq_1.51.0.zip PackageFileSize: 4.358 MiB