Package: piano Version: 2.23.0 Command: rm -rf piano.buildbin-libdir && mkdir piano.buildbin-libdir && /Users/biocbuild/BBS/utils/build-universal.sh piano_2.23.0.tar.gz /Library/Frameworks/R.framework/Resources/bin/R piano.buildbin-libdir StartedAt: 2025-02-04 22:27:00 -0500 (Tue, 04 Feb 2025) EndedAt: 2025-02-04 22:27:07 -0500 (Tue, 04 Feb 2025) EllapsedTime: 7.2 seconds RetCode: 0 Status: OK PackageFile: piano_2.23.0.tgz PackageFileSize: 1.643 MiB