Package: piano Version: 2.23.0 Command: /home/biocbuild/R/R/bin/R CMD build --keep-empty-dirs --no-resave-data piano StartedAt: 2025-01-29 01:17:16 -0000 (Wed, 29 Jan 2025) EndedAt: 2025-01-29 01:18:10 -0000 (Wed, 29 Jan 2025) EllapsedTime: 53.0 seconds RetCode: 0 Status: OK PackageFile: piano_2.23.0.tar.gz PackageFileSize: 1.656 MiB