Package: piano Version: 2.23.0 Command: /home/biocbuild/R/R/bin/R CMD check --install=check:piano.install-out.txt --library=/home/biocbuild/R/R/site-library --no-vignettes --timings piano_2.23.0.tar.gz StartedAt: 2025-01-28 13:55:14 -0000 (Tue, 28 Jan 2025) EndedAt: 2025-01-28 13:55:18 -0000 (Tue, 28 Jan 2025) EllapsedTime: 4.0 seconds RetCode: 1 Status: ERROR CheckDir: piano.Rcheck Warnings: NA