Package: piano Version: 2.23.0 Command: /home/biocbuild/R/R/bin/R CMD INSTALL piano StartedAt: 2025-01-29 20:16:12 -0000 (Wed, 29 Jan 2025) EndedAt: 2025-01-29 20:16:32 -0000 (Wed, 29 Jan 2025) EllapsedTime: 20.9 seconds RetCode: 0 Status: OK