Package: piano Version: 2.23.0 Command: E:\biocbuild\bbs-3.21-bioc\R\bin\R.exe CMD check --no-multiarch --install=check:piano.install-out.txt --library=E:\biocbuild\bbs-3.21-bioc\R\library --no-vignettes --timings piano_2.23.0.tar.gz StartedAt: 2025-02-10 04:05:47 -0500 (Mon, 10 Feb 2025) EndedAt: 2025-02-10 04:08:10 -0500 (Mon, 10 Feb 2025) EllapsedTime: 142.8 seconds RetCode: 0 Status: OK CheckDir: piano.Rcheck Warnings: 0