Package: pickgene Version: 1.79.0 Command: /Library/Frameworks/R.framework/Resources/bin/R CMD build --keep-empty-dirs --no-resave-data pickgene StartedAt: 2025-02-03 17:51:21 -0500 (Mon, 03 Feb 2025) EndedAt: 2025-02-03 17:51:24 -0500 (Mon, 03 Feb 2025) EllapsedTime: 3.0 seconds RetCode: 0 Status: OK PackageFile: pickgene_1.79.0.tar.gz PackageFileSize: 305.4 KiB