Package: pickgene Version: 1.79.0 Command: /Library/Frameworks/R.framework/Resources/bin/R CMD check --install=check:pickgene.install-out.txt --library=/Library/Frameworks/R.framework/Resources/library --no-vignettes --timings pickgene_1.79.0.tar.gz StartedAt: 2025-02-03 21:16:17 -0500 (Mon, 03 Feb 2025) EndedAt: 2025-02-03 21:16:29 -0500 (Mon, 03 Feb 2025) EllapsedTime: 12.2 seconds RetCode: 0 Status: WARNINGS CheckDir: pickgene.Rcheck Warnings: 1