Package: pickgene Version: 1.79.0 Command: /Library/Frameworks/R.framework/Resources/bin/R CMD INSTALL pickgene StartedAt: 2025-02-03 15:36:33 -0500 (Mon, 03 Feb 2025) EndedAt: 2025-02-03 15:36:38 -0500 (Mon, 03 Feb 2025) EllapsedTime: 4.4 seconds RetCode: 0 Status: OK