Package: pickgene Version: 1.79.0 Command: /home/biocbuild/R/R/bin/R CMD check --install=check:pickgene.install-out.txt --library=/home/biocbuild/R/R/site-library --no-vignettes --timings pickgene_1.79.0.tar.gz StartedAt: 2025-01-28 13:55:18 -0000 (Tue, 28 Jan 2025) EndedAt: 2025-01-28 13:55:41 -0000 (Tue, 28 Jan 2025) EllapsedTime: 23.0 seconds RetCode: 0 Status: WARNINGS CheckDir: pickgene.Rcheck Warnings: 1