Package: pickgene Version: 1.79.0 Command: /Library/Frameworks/R.framework/Resources/bin/R CMD build --keep-empty-dirs --no-resave-data pickgene StartedAt: 2025-02-09 17:57:51 -0500 (Sun, 09 Feb 2025) EndedAt: 2025-02-09 17:58:00 -0500 (Sun, 09 Feb 2025) EllapsedTime: 9.1 seconds RetCode: 0 Status: OK PackageFile: pickgene_1.79.0.tar.gz PackageFileSize: 305.3 KiB