Package: pickgene Version: 1.79.0 Command: /home/biocbuild/bbs-3.21-bioc/R/bin/R CMD build --keep-empty-dirs --no-resave-data pickgene StartedAt: 2025-02-09 18:40:05 -0500 (Sun, 09 Feb 2025) EndedAt: 2025-02-09 18:40:11 -0500 (Sun, 09 Feb 2025) EllapsedTime: 6.0 seconds RetCode: 0 Status: OK PackageFile: pickgene_1.79.0.tar.gz PackageFileSize: 305.3 KiB