Package: pickgene Version: 1.79.0 Command: rm -rf pickgene.buildbin-libdir && mkdir pickgene.buildbin-libdir && E:\biocbuild\bbs-3.21-bioc\R\bin\R.exe CMD INSTALL --build --library=pickgene.buildbin-libdir pickgene_1.79.0.tar.gz StartedAt: 2025-02-10 08:23:12 -0500 (Mon, 10 Feb 2025) EndedAt: 2025-02-10 08:23:28 -0500 (Mon, 10 Feb 2025) EllapsedTime: 16.4 seconds RetCode: 0 Status: OK PackageFile: pickgene_1.79.0.zip PackageFileSize: 293.6 KiB