Package: pickgene Version: 1.79.0 Command: chmod a+r pickgene -R && E:\biocbuild\bbs-3.21-bioc\R\bin\R.exe CMD build --keep-empty-dirs --no-resave-data pickgene StartedAt: 2025-02-09 20:45:26 -0500 (Sun, 09 Feb 2025) EndedAt: 2025-02-09 20:45:37 -0500 (Sun, 09 Feb 2025) EllapsedTime: 10.6 seconds RetCode: 0 Status: OK PackageFile: pickgene_1.79.0.tar.gz PackageFileSize: 196.4 KiB