Package: pickgene Version: 1.79.0 Command: E:\biocbuild\bbs-3.21-bioc\R\bin\R.exe CMD check --no-multiarch --install=check:pickgene.install-out.txt --library=E:\biocbuild\bbs-3.21-bioc\R\library --no-vignettes --timings pickgene_1.79.0.tar.gz StartedAt: 2025-02-04 04:33:50 -0500 (Tue, 04 Feb 2025) EndedAt: 2025-02-04 04:34:24 -0500 (Tue, 04 Feb 2025) EllapsedTime: 33.7 seconds RetCode: 0 Status: WARNINGS CheckDir: pickgene.Rcheck Warnings: 1