Package: pipeFrame Version: 1.23.0 Maintainer: Zheng Wei MaintainerEmail: wzweizheng at qq.com git_url: https://git.bioconductor.org/packages/pipeFrame git_branch: devel git_last_commit: f9587ae git_last_commit_date: 2024-10-29 10:36:57 -0500 (Tue, 29 Oct 2024)