Package: pipeFrame Version: 1.23.0 Command: /Library/Frameworks/R.framework/Resources/bin/R CMD check --install=check:pipeFrame.install-out.txt --library=/Library/Frameworks/R.framework/Resources/library --no-vignettes --timings pipeFrame_1.23.0.tar.gz StartedAt: 2025-02-09 20:40:18 -0500 (Sun, 09 Feb 2025) EndedAt: 2025-02-09 20:41:53 -0500 (Sun, 09 Feb 2025) EllapsedTime: 95.2 seconds RetCode: 0 Status: OK CheckDir: pipeFrame.Rcheck Warnings: 0