Package: pipeFrame Version: 1.23.0 Command: /home/biocbuild/R/R/bin/R CMD INSTALL pipeFrame StartedAt: 2025-01-29 20:04:10 -0000 (Wed, 29 Jan 2025) EndedAt: 2025-01-29 20:04:57 -0000 (Wed, 29 Jan 2025) EllapsedTime: 47.0 seconds RetCode: 0 Status: OK