Package: pipeFrame Version: 1.23.0 Command: /home/biocbuild/bbs-3.21-bioc/R/bin/R CMD check --install=check:pipeFrame.install-out.txt --library=/home/biocbuild/bbs-3.21-bioc/R/site-library --timings pipeFrame_1.23.0.tar.gz StartedAt: 2025-02-10 01:19:57 -0500 (Mon, 10 Feb 2025) EndedAt: 2025-02-10 01:24:29 -0500 (Mon, 10 Feb 2025) EllapsedTime: 271.4 seconds RetCode: 0 Status: OK CheckDir: pipeFrame.Rcheck Warnings: 0