Package: pipeFrame Version: 1.23.0 Command: /home/biocbuild/bbs-3.21-bioc/R/bin/R CMD INSTALL pipeFrame StartedAt: 2025-02-09 15:57:09 -0500 (Sun, 09 Feb 2025) EndedAt: 2025-02-09 15:57:42 -0500 (Sun, 09 Feb 2025) EllapsedTime: 33.1 seconds RetCode: 0 Status: OK