Package: pipeFrame Version: 1.23.0 Command: rm -rf pipeFrame.buildbin-libdir && mkdir pipeFrame.buildbin-libdir && E:\biocbuild\bbs-3.21-bioc\R\bin\R.exe CMD INSTALL --build --library=pipeFrame.buildbin-libdir pipeFrame_1.23.0.tar.gz StartedAt: 2025-02-10 08:23:25 -0500 (Mon, 10 Feb 2025) EndedAt: 2025-02-10 08:24:41 -0500 (Mon, 10 Feb 2025) EllapsedTime: 76.6 seconds RetCode: 0 Status: OK PackageFile: pipeFrame_1.23.0.zip PackageFileSize: 1.079 MiB