Package: pipeFrame Version: 1.23.0 Command: chmod a+r pipeFrame -R && E:\biocbuild\bbs-3.21-bioc\R\bin\R.exe CMD build --keep-empty-dirs --no-resave-data pipeFrame StartedAt: 2025-02-09 20:45:42 -0500 (Sun, 09 Feb 2025) EndedAt: 2025-02-09 20:46:57 -0500 (Sun, 09 Feb 2025) EllapsedTime: 75.4 seconds RetCode: 0 Status: OK PackageFile: pipeFrame_1.23.0.tar.gz PackageFileSize: 1.196 MiB