Package: pipeFrame Version: 1.23.0 Command: E:\biocbuild\bbs-3.21-bioc\R\bin\R.exe CMD check --no-multiarch --install=check:pipeFrame.install-out.txt --library=E:\biocbuild\bbs-3.21-bioc\R\library --no-vignettes --timings pipeFrame_1.23.0.tar.gz StartedAt: 2025-02-10 04:06:50 -0500 (Mon, 10 Feb 2025) EndedAt: 2025-02-10 04:12:50 -0500 (Mon, 10 Feb 2025) EllapsedTime: 360.2 seconds RetCode: 0 Status: OK CheckDir: pipeFrame.Rcheck Warnings: 0