Package: pipeFrame Version: 1.23.0 Command: E:\biocbuild\bbs-3.21-bioc\R\bin\R.exe CMD INSTALL pipeFrame StartedAt: 2025-02-09 16:34:44 -0500 (Sun, 09 Feb 2025) EndedAt: 2025-02-09 16:35:50 -0500 (Sun, 09 Feb 2025) EllapsedTime: 66.6 seconds RetCode: 0 Status: OK