Package: planet Version: 1.15.5 Command: /Library/Frameworks/R.framework/Resources/bin/R CMD INSTALL planet StartedAt: 2025-02-09 15:02:42 -0500 (Sun, 09 Feb 2025) EndedAt: 2025-02-09 15:02:44 -0500 (Sun, 09 Feb 2025) EllapsedTime: 2.2 seconds RetCode: 0 Status: OK