Package: planet Version: 1.15.5 Command: /Library/Frameworks/R.framework/Resources/bin/R CMD INSTALL planet StartedAt: 2025-02-12 15:06:33 -0500 (Wed, 12 Feb 2025) EndedAt: 2025-02-12 15:06:56 -0500 (Wed, 12 Feb 2025) EllapsedTime: 22.7 seconds RetCode: 0 Status: OK