Package: planet Version: 1.15.5 Command: /home/biocbuild/bbs-3.21-bioc/R/bin/R CMD build --keep-empty-dirs --no-resave-data planet StartedAt: 2025-02-04 18:38:10 -0500 (Tue, 04 Feb 2025) EndedAt: 2025-02-04 18:39:05 -0500 (Tue, 04 Feb 2025) EllapsedTime: 55.1 seconds RetCode: 0 Status: OK PackageFile: planet_1.15.5.tar.gz PackageFileSize: 2.823 MiB