Package: planet Version: 1.15.5 Command: /home/biocbuild/bbs-3.21-bioc/R/bin/R CMD check --install=check:planet.install-out.txt --library=/home/biocbuild/bbs-3.21-bioc/R/site-library --timings planet_1.15.5.tar.gz StartedAt: 2025-02-10 01:20:45 -0500 (Mon, 10 Feb 2025) EndedAt: 2025-02-10 01:22:44 -0500 (Mon, 10 Feb 2025) EllapsedTime: 118.2 seconds RetCode: 0 Status: OK CheckDir: planet.Rcheck Warnings: 0