Package: planet Version: 1.15.5 Command: chmod a+r planet -R && E:\biocbuild\bbs-3.21-bioc\R\bin\R.exe CMD build --keep-empty-dirs --no-resave-data planet StartedAt: 2025-02-09 20:46:13 -0500 (Sun, 09 Feb 2025) EndedAt: 2025-02-09 20:47:47 -0500 (Sun, 09 Feb 2025) EllapsedTime: 94.4 seconds RetCode: 0 Status: OK PackageFile: planet_1.15.5.tar.gz PackageFileSize: 2.712 MiB