Package: planttfhunter Version: 1.7.0 Command: /Library/Frameworks/R.framework/Resources/bin/R CMD build --keep-empty-dirs --no-resave-data planttfhunter StartedAt: 2025-02-03 17:56:06 -0500 (Mon, 03 Feb 2025) EndedAt: 2025-02-03 17:56:44 -0500 (Mon, 03 Feb 2025) EllapsedTime: 37.8 seconds RetCode: 0 Status: OK PackageFile: planttfhunter_1.7.0.tar.gz PackageFileSize: 991.6 KiB