Package: planttfhunter Version: 1.7.0 Command: /home/biocbuild/bbs-3.21-bioc/R/bin/R CMD build --keep-empty-dirs --no-resave-data planttfhunter StartedAt: 2025-02-03 18:49:12 -0500 (Mon, 03 Feb 2025) EndedAt: 2025-02-03 18:49:46 -0500 (Mon, 03 Feb 2025) EllapsedTime: 34.1 seconds RetCode: 0 Status: OK PackageFile: planttfhunter_1.7.0.tar.gz PackageFileSize: 991.5 KiB